BEGIN:VCALENDAR
VERSION:2.0
PRODID:-//Tukios.com/
BEGIN:VEVENT
UID:9b9ae2ef-41a9-4a95-b660-cefe0b4a0589@www.heckartfuneralhomesedalia.com
DTSTAMP:20260421T004144Z
DTSTART:20260423T193000Z
DTEND:20260423T203000Z
SUMMARY:Graveside Service
DESCRIPTION:
URL:https://www.heckartfuneralhomesedalia.com/obituaries/robert-ronspiez-sr
LOCATION:Spring Fork Cemetery State Highway U  Sedalia MO 65301
GEO:38.6949266;-93.2228746
END:VEVENT
END:VCALENDAR