BEGIN:VCALENDAR
VERSION:2.0
PRODID:-//Tukios.com/
BEGIN:VEVENT
UID:7464f766-fcd8-4819-9676-7aa81bbf1b2c@www.heckartfuneralhomesedalia.com
DTSTAMP:20260421T004614Z
DTSTART:20260423T180000Z
DTEND:20260423T190000Z
SUMMARY:Visitation
DESCRIPTION:
URL:https://www.heckartfuneralhomesedalia.com/obituaries/robert-ronspiez-sr
LOCATION:Heckart Funeral Home & Cremation Services 903 S Ohio Ave  
	Sedalia MO 65301
GEO:38.7030254;-93.2280478
END:VEVENT
END:VCALENDAR